BEGIN:VCALENDAR
VERSION:2.0
PRODID:-//Centre for Peace//EN
CALSCALE:GREGORIAN
METHOD:PUBLISH
BEGIN:VEVENT
UID:recs8UsbyAXBsaKQG-2026-04-24@centreforpeace.com
DTSTAMP:20260424T025400
DTSTART:20260424T090000
DTEND:20260424T100000
SUMMARY:Family Breakfast Picnic at Permai Park
DESCRIPTION:Join us for a relaxed outdoor morning under the trees near Owl.
  Bring a blanket or chair\, plus breakfast or snacks if you like. We’ll br
 ing a small selection of toys from the Owl Toy Library.
LOCATION:Permai Park\, near the playground
END:VEVENT
END:VCALENDAR
